BEGIN:VCALENDAR
VERSION:2.0
PRODID:-//Ice Cream - ECPv6.15.20//NONSGML v1.0//EN
CALSCALE:GREGORIAN
METHOD:PUBLISH
X-ORIGINAL-URL:https://icecream-annecy.fr
X-WR-CALDESC:Évènements pour Ice Cream
REFRESH-INTERVAL;VALUE=DURATION:PT1H
X-Robots-Tag:noindex
X-PUBLISHED-TTL:PT1H
BEGIN:VTIMEZONE
TZID:Europe/Paris
BEGIN:DAYLIGHT
TZOFFSETFROM:+0100
TZOFFSETTO:+0200
TZNAME:CEST
DTSTART:20250330T010000
END:DAYLIGHT
BEGIN:STANDARD
TZOFFSETFROM:+0200
TZOFFSETTO:+0100
TZNAME:CET
DTSTART:20251026T010000
END:STANDARD
BEGIN:DAYLIGHT
TZOFFSETFROM:+0100
TZOFFSETTO:+0200
TZNAME:CEST
DTSTART:20260329T010000
END:DAYLIGHT
BEGIN:STANDARD
TZOFFSETFROM:+0200
TZOFFSETTO:+0100
TZNAME:CET
DTSTART:20261025T010000
END:STANDARD
BEGIN:DAYLIGHT
TZOFFSETFROM:+0100
TZOFFSETTO:+0200
TZNAME:CEST
DTSTART:20270328T010000
END:DAYLIGHT
BEGIN:STANDARD
TZOFFSETFROM:+0200
TZOFFSETTO:+0100
TZNAME:CET
DTSTART:20271031T010000
END:STANDARD
END:VTIMEZONE
BEGIN:VEVENT
DTSTART;TZID=Europe/Paris:20260425T100000
DTEND;TZID=Europe/Paris:20260425T160000
DTSTAMP:20260424T103254
CREATED:20260203T155425Z
LAST-MODIFIED:20260203T155425Z
UID:10005475-1777111200-1777132800@icecream-annecy.fr
SUMMARY:🎨 Découverte peinture acrylique 🎨
DESCRIPTION:Stage découverte peinture acrylique sur le thème des plantes colorées !\nAvec David Peneau\nSamedi 25 avril de 10h à 16h \nVenez vous initier aux bases de la peinture acrylique et réalisez une œuvre complète ! Matériel et support fournis. Possibilité de manger ensemble sur place le midi. \n✨ Accessible dès 15 ans. Tarif : de 50 à 55 €.\nInscriptions à l’accueil du Cairn ou directement en ligne sur votre Espace Famille. \nPlus d’informations :\n📞 04.50.22.08.13\n📲 accueil@le-cairn.org\n📍 6\, rue de l’aérodrome\, Meythet 74960 Annecy \nInofs:\nhttps://lecairn-annecymeythet.com/activites-regulieres/ \n\n\n	Similaire
URL:https://icecream-annecy.fr/event/%f0%9f%8e%a8-decouverte-peinture-acrylique-%f0%9f%8e%a8/
LOCATION:Meythet\, Meythet\, 74960\, France
CATEGORIES:Atelier créatif
END:VEVENT
END:VCALENDAR