BEGIN:VCALENDAR
VERSION:2.0
PRODID:-//Ice Cream - ECPv6.15.20//NONSGML v1.0//EN
CALSCALE:GREGORIAN
METHOD:PUBLISH
X-WR-CALNAME:Ice Cream
X-ORIGINAL-URL:https://icecream-annecy.fr
X-WR-CALDESC:Évènements pour Ice Cream
REFRESH-INTERVAL;VALUE=DURATION:PT1H
X-Robots-Tag:noindex
X-PUBLISHED-TTL:PT1H
BEGIN:VTIMEZONE
TZID:Europe/Paris
BEGIN:DAYLIGHT
TZOFFSETFROM:+0100
TZOFFSETTO:+0200
TZNAME:CEST
DTSTART:20250330T010000
END:DAYLIGHT
BEGIN:STANDARD
TZOFFSETFROM:+0200
TZOFFSETTO:+0100
TZNAME:CET
DTSTART:20251026T010000
END:STANDARD
BEGIN:DAYLIGHT
TZOFFSETFROM:+0100
TZOFFSETTO:+0200
TZNAME:CEST
DTSTART:20260329T010000
END:DAYLIGHT
BEGIN:STANDARD
TZOFFSETFROM:+0200
TZOFFSETTO:+0100
TZNAME:CET
DTSTART:20261025T010000
END:STANDARD
BEGIN:DAYLIGHT
TZOFFSETFROM:+0100
TZOFFSETTO:+0200
TZNAME:CEST
DTSTART:20270328T010000
END:DAYLIGHT
BEGIN:STANDARD
TZOFFSETFROM:+0200
TZOFFSETTO:+0100
TZNAME:CET
DTSTART:20271031T010000
END:STANDARD
END:VTIMEZONE
BEGIN:VEVENT
DTSTART;TZID=Europe/Paris:20260423T100000
DTEND;TZID=Europe/Paris:20260423T113000
DTSTAMP:20260422T105606
CREATED:20260413T144933Z
LAST-MODIFIED:20260413T144933Z
UID:10005908-1776938400-1776943800@icecream-annecy.fr
SUMMARY:💪 Coaching Confiance en Soi 💪
DESCRIPTION:Atelier de coaching collectif: « La peur comme tremplin\, la confiance comme moteur » \n🙆 Pour qui ? (10 pers max) \nTu as de fortes responsabilités (dirigeant·es\, entrepreneur·es\, managers\, cadres\, etc.) \nTu manques de confiance en toi et tu doutes parfois de ta légitimité \nTu veux dépasser tes peurs\, oser et ressentir avec fierté ce dont tu es capable \n🎯 L’objectif de l’atelier : \nQu’est-ce que tu ferais si tu n’avais pas peur ? \nPeur d’oser\, d’échouer\, du jugement des autres\, de mal faire\, … ? \nImagine ce que cette confiance t’apporterait. \nOn va travailler ensemble et expérimenter pour : \nnourrir ta confiance en toi et dans les autres \nfaire face à tes peurs et les dépasser \nt’engager et oser passer à l’action \n  \nQui va t’accompagner ? \nAnastasia Cowez : préparatrice mentale et coach business \nJ’accompagne sportif·es\, dirigeant·es et cadres à performer sans s’épuiser\, avec plaisir et équilibre \nMon approche : créer les conditions de ta réussite\, de manière pragmatique\, en développant tes ressources\, ta confiance et tes habiletés mentales \nOrphélie Cardin : coach formatrice et consultante bilan de compétence \nJ’accompagne particuliers et entreprises vers une meilleure connaissance d’eux-mêmes : + d’estime\, de clarté et d’audace \nMon approche : identifier les mécanismes qui limitent\, révéler les talents et transformer les ressources en leviers d’évolution \n  \nNotre mission et projet : \nNous sommes les 2 co-fondatrices passionnées d’une aventure féminine immersive de 4 jours et 4 nuits dans les montagnes de notre belle région ! Cette expérience unique réunit 10 femmes autour de moments puissants : \n💪💪 Ateliers de coaching sur l’estime de soi et le dépassement des peurs \n🏔🏔 Initiation à l’escalade et à la chute \n🥾🥾 Randonnée vers un sommet mythique \n⭐⭐ Bivouac sous les étoiles et surprises bien-être \nTu ne redescendras pas la même ! \nTu veux en savoir plus ? \nConsulte notre site internet \nSuis-nous sur les réseaux : https://www.instagram.com/_lesconquerantes_/ \nAppelle-nous ou envoie-nous un whatsapp : 06 99 06 31 16 \nE-mail : contact.lesconquerantes@gmail.com \nInscriptions\nhttps://www.eventbrite.fr/e/atelier-de-coaching-collectif-les-conquerantes-tickets-1985795330289?utm-campaign=social&utm-content=attendeeshare&utm-medium=discovery&utm-term=listing&utm-source=cp&aff=ebdsshcopyurl
URL:https://icecream-annecy.fr/event/%f0%9f%92%aa-coaching-confiance-en-soi-%f0%9f%92%aa/
LOCATION:La Cordée\, 4 Rue Saint-François de Sales\, Annecy\, 74000\, France
CATEGORIES:Atelier créatif
END:VEVENT
BEGIN:VEVENT
DTSTART;TZID=Europe/Paris:20260423T180000
DTEND;TZID=Europe/Paris:20260423T220000
DTSTAMP:20260422T105606
CREATED:20260408T134758Z
LAST-MODIFIED:20260408T134758Z
UID:10005904-1776967200-1776981600@icecream-annecy.fr
SUMMARY:🌟La Haute-Savoie a du talent🌟
DESCRIPTION:Une soirée exceptionnelle ouverte à tous réunissant des figures locales de tous horizons. Une occasion unique d’aller à la rencontre de celles et ceux qui font notre région et qui la font rayonner au-delà de ses frontières. Célébrons la Haute-Savoie et ses Talents !\nAu regard du contexte ambiant morose et incertain véhiculé par les médias\, on tend à se désoler de ce qui ne fonctionne pas et on en oublie de se réjouir et de célébrer les réussites et les belles histoires qui se trouvent tout à côté de chez nous.\nLes Fondus et le Crédit Mutuel Savoie Mont Blanc vous invitent à cette soirée exceptionnelle ponctuée d’interventions\, d’expositions et d’intermèdes artistiques : une véritable vitrine représentative de l’excellence de notre territoire !\nLa mission de cette soirée d’envergure ? Donner la parole à des femmes et des hommes qui viennent partager avec les spectateurs sur leurs motivations\, sur les facteurs clés qui ont contribué à l’atteinte de leurs objectifs dans leurs projets\, et sur leur attachement au territoire … Spontanéité\, sincérité et bonne humeur sont le fil conducteur de cet événement à la fois inspirant\, festif et convivial.\nDES TALENTS HORS DU COMMUNLes speakers ? Des entrepreneurs\, des sportifs de haut niveau\, des artistes\, des artisans\, des représentants d’associations\, des influenceurs … Des femmes et des hommes audacieux\, preneurs de risques\, visionnaires et généreux.\n\nEn savoir plus : https://www.les-fondus.com/evenements/la-haute-savoie-a-du-talent-2eme-edition/
URL:https://icecream-annecy.fr/event/%f0%9f%8c%9fla-haute-savoie-a-du-talent%f0%9f%8c%9f/
LOCATION:Impérial Palace\, All. de l'Impérial\, Annecy\, 74000\, France
CATEGORIES:Local
END:VEVENT
BEGIN:VEVENT
DTSTART;TZID=Europe/Paris:20260423T190000
DTEND;TZID=Europe/Paris:20260423T220000
DTSTAMP:20260422T105606
CREATED:20260410T122501Z
LAST-MODIFIED:20260410T122501Z
UID:10005906-1776970800-1776981600@icecream-annecy.fr
SUMMARY:🚀 Formation « Découvre la JCE » 🚀
DESCRIPTION:Découvre la JCE – Formation incontournable ! \nTu t’intéresses à la Jeune Chambre Économique Française et tu envisages de devenir adhérent(e) ? \nLa formation « Découvre la JCE » est l’étape essentielle pour démarrer l’aventure 🚀 \n👉 Viens découvrir la Jeune Chambre Économique à travers cette formation qui te permettra de comprendre les valeurs\, la raison d’être et le fonctionnement de la JCE pour devenir un Leader Citoyen accompli. \nAu programme : \n✔ Les fondements et les valeurs du mouvement\n✔ Le fonctionnement local\, national et international\n✔ Les opportunités d’engagement et d’impact\n✔ Les premières clés pour t’impliquer concrètement \nInscriptions \nhttps://www.helloasso.com/associations/jeune-chambre-economique-d-annecy-et-sa-region/evenements/formation-procedure-parlementaire-2-1?_gl=116h9khx_gcl_auNjkwODMyMjcuMTc3MTkyNTE5MS4xMDUzMDY0NDQ1LjE3NzU3MTQ4MTEuMTc3NTcxNDgxMQ
URL:https://icecream-annecy.fr/event/%f0%9f%9a%80-formation-decouvre-la-jce-%f0%9f%9a%80/
LOCATION:La Cordée\, 4 Rue Saint-François de Sales\, Annecy\, 74000\, France
CATEGORIES:Local
END:VEVENT
BEGIN:VEVENT
DTSTART;TZID=Europe/Paris:20260423T190000
DTEND;TZID=Europe/Paris:20260423T223000
DTSTAMP:20260422T105606
CREATED:20260408T123114Z
LAST-MODIFIED:20260408T123114Z
UID:10005879-1776970800-1776983400@icecream-annecy.fr
SUMMARY:🏔️ Rencontre avec Marion Poitevin 🏔️
DESCRIPTION:Pour cette 3ème soirée du Curiosity Club Annecy\, nous vous proposons une vraie rencontre au sommet\, sous un dôme au cœur du massif des Bauges\, sur les hauteurs du Semnoz. \nPremière femme à intégrer le prestigieux Groupe Militaire de Haute-Montagne (GMHM)\, première instructrice à l’École Militaire de Haute-Montagne et première secouriste CRS Montagne\, le parcours de Marion Poitevin est une vraie leçon de résilience. Pionnière absolue\, Marion n’a pas seulement gravi des montagnes\, elle a aussi su déjouer les préjugés d’un milieu très masculin pour réaliser ses rêves d’enfants. \nAujourd’hui maman\, autrice et présidente de l’association Lead the climb qui vise à féminiser la pratique de l’alpinisme\, elle porte haut la voix de l’égalité. \nDe ses grandes expéditions dans l’Himalaya au secours en montagne dans les Alpes\, elle nous parlera de la difficulté de trouver sa place quand on manque de modèles\, des conséquences de la maternité et de l’importance de devenir\, à son tour\, une figure inspirante pour les autres\, hommes ou femmes. \nVenez briser vos propres plafonds de glaces et vous offrir une bonne bouffée d’audace\, le temps d’une soirée en montagne. \nOn vous rappelle le concept et ce que comprend votre ticket : \n\nUn talk d’une femme au parcours hors du commun\nDans un lieu à chaque fois différent\nLa dégustation de produits sourcés auprès de nos prestataires féminins locaux (food + cocktails Lillet)\nLa découverte de notre écosystème de partenaires (mode\, art\, musique\, asso…) présents lors de l’événement\nUn moment de partage et d’échange avec les femmes de la communauté de Curiosity\n\nInscriptions ⬇️ \nMarion Poitevin – Secouriste et guide de haute-montagne
URL:https://icecream-annecy.fr/event/%f0%9f%8f%94%ef%b8%8f-rencontre-avec-marion-poitevin-%f0%9f%8f%94%ef%b8%8f/
LOCATION:Maison du Semnoz
CATEGORIES:Outdoor,Rencontres
END:VEVENT
END:VCALENDAR