BEGIN:VCALENDAR
VERSION:2.0
PRODID:-//Ice Cream - ECPv6.15.20//NONSGML v1.0//EN
CALSCALE:GREGORIAN
METHOD:PUBLISH
X-ORIGINAL-URL:https://icecream-annecy.fr
X-WR-CALDESC:Évènements pour Ice Cream
REFRESH-INTERVAL;VALUE=DURATION:PT1H
X-Robots-Tag:noindex
X-PUBLISHED-TTL:PT1H
BEGIN:VTIMEZONE
TZID:Europe/Paris
BEGIN:DAYLIGHT
TZOFFSETFROM:+0100
TZOFFSETTO:+0200
TZNAME:CEST
DTSTART:20250330T010000
END:DAYLIGHT
BEGIN:STANDARD
TZOFFSETFROM:+0200
TZOFFSETTO:+0100
TZNAME:CET
DTSTART:20251026T010000
END:STANDARD
BEGIN:DAYLIGHT
TZOFFSETFROM:+0100
TZOFFSETTO:+0200
TZNAME:CEST
DTSTART:20260329T010000
END:DAYLIGHT
BEGIN:STANDARD
TZOFFSETFROM:+0200
TZOFFSETTO:+0100
TZNAME:CET
DTSTART:20261025T010000
END:STANDARD
BEGIN:DAYLIGHT
TZOFFSETFROM:+0100
TZOFFSETTO:+0200
TZNAME:CEST
DTSTART:20270328T010000
END:DAYLIGHT
BEGIN:STANDARD
TZOFFSETFROM:+0200
TZOFFSETTO:+0100
TZNAME:CET
DTSTART:20271031T010000
END:STANDARD
END:VTIMEZONE
BEGIN:VEVENT
DTSTART;TZID=Europe/Paris:20260417T090000
DTEND;TZID=Europe/Paris:20260417T190000
DTSTAMP:20260424T114013
CREATED:20260408T125841Z
LAST-MODIFIED:20260408T125841Z
UID:10005883-1776416400-1776452400@icecream-annecy.fr
SUMMARY:🪴Grande vente de plantes🪴
DESCRIPTION:Notre Grande Vente de Plantes fait son grand retour à Art By Friends : pépites vertes\, petits prix et bonne humeur garanties \n Des plantes fraîches\, direct producteur : livrées le matin même du premier jour de vente\, sans réassort tout le week-end. Premier arrivé\, premier servi !\n Paiement CB & espèces  Réserve vite ton billet gratuit ici  https://grande-vente-de-plantes-annecy.eventbrite.fr\n\n AU PROGRAMME\n+150 variétés de plantes à prix mini (à partir de 0\,99€)\nDes plantes d’intérieur\, d’extérieur\, grandes ou petites\, ultra-fraîches et direct producteur\nDes sélections pour tous les niveaux : débutant·e\, plante d’ombre\, increvable…\nTerreaux\, pots et cache-pots pour sublimer tes plantes\n\n INFOS PRATIQUES\nArt By Friends\, 14 avenue du Rhône\, 74000 Annecy\n Vendredi 17 avril : 9h à 19h Samedi 18 avril : 9h à 19h Dimanche 19 avril : 10h à 17h\n Paiement CB & espèces Accessible aux personnes à mobilité réduite Pet friendly\nPrêt·e à agrandir ta jungle ? On se retrouve là-bas ! 
URL:https://icecream-annecy.fr/event/%f0%9f%aa%b4grande-vente-de-plantes%f0%9f%aa%b4-4/2026-04-17/
LOCATION:Art By Friends\, 14 avenue du Rhône\, Annecy\, 74000\, France
END:VEVENT
BEGIN:VEVENT
DTSTART;TZID=Europe/Paris:20260417T170000
DTEND;TZID=Europe/Paris:20260417T230000
DTSTAMP:20260424T114013
CREATED:20260408T130613Z
LAST-MODIFIED:20260408T130613Z
UID:10005888-1776445200-1776466800@icecream-annecy.fr
SUMMARY:🍻 SOIRÉE GRANGE NOIRE 🍻
DESCRIPTION:SOIRÉE GRANGE NOIRE chez BIERONOMY SEYNOD 🍻 \nDans le cadre du Lyon Bière Unplugged 2026\, on est très heureux d’accueillir la Brasserie Grange Noire chez Bieronomy Seynod\, en Haute-Savoie\, pour une belle soirée craft à ne pas manquer !\nEn tant que co-organisateur du Lyon Bière Festival\, c’est un vrai plaisir pour nous de faire vivre aussi cet événement chez nous avec une brasserie aussi singulière\, créative et passionnante que Grange Noire.\nInstallée depuis 2019 à Saint-Alban\, dans le pays de Cerdon\, la brasserie Grange Noire s’inspire largement de la tradition brassicole britannique. Derrière le projet\, Emeline et Nicolas\, passés par Édimbourg\, développent une gamme qui navigue entre grands classiques des îles britanniques\, créations éphémères\, bières barriquées et recettes mettant en avant le terroir local. \n📅 Vendredi 17 avril 2026\n🕕 De 17h à 23h\n📍 Bieronomy Seynod \n🍺 4 bières Grange Noire à la pression :\n• Globalement Inoffensive – Pale Ale 4\,2%\n• Lâche-moi la Grappe – Grape Ale au marc de Mondeuse 4\,5%\n• Khao Manee – Hoppy Wheat Ale 4\,5%\n• Garden Flowers -Sour Gruit 4\,5%\nEt en bonus : toute la gamme actuelle de bouteilles Grange Noire à découvrir sur place\, avec notamment Dry Stout\, English IPA\, Peated Scotch Ale\, IPA barriquée Bourbon…\nUne super occasion de découvrir une brasserie artisanale locale au style bien affirmé\, aussi à l’aise sur les inspirations britanniques que sur des créations plus originales et ancrées dans leur territoire. \n🔗 + d’infos sur Grange Noire :\nhttps://www.facebook.com/GrangeNoire\nhttps://www.grangenoire.com/ \n📆 Agenda complet Bieronomy :\nhttps://blog.bieronomy.com/nos-prochains-evenements…/ \n📍 Infos pratiques\n• Bar Bieronomy Seynod au 1152 avenue d’Aix-les-Bains\, 74600 Seynod (Chaux-Balmont)\n• Accès facile : parking sur place · sortie Seynod-Sud à proximité\n• Sur place : vins\, softs / sans alcool artisanaux\, spiritueux (Whisky\, Rhum\, Gin\, Pastis…)\n• Ambiance Bieronomy : grande terrasse\, 🎯 fléchettes\, 🧀🐖 planches apéritives\, pétanque \n⚠️ L’abus d’alcool est dangereux pour la santé\, à consommer avec modération.
URL:https://icecream-annecy.fr/event/%f0%9f%8d%bb-soiree-grange-noire-%f0%9f%8d%bb/
LOCATION:Bieronomy\, 1152 Avenue d'Aix-les-Bains\, Seynod\, 74600\, France
CATEGORIES:Apéro,Local,Musique
END:VEVENT
BEGIN:VEVENT
DTSTART;TZID=Europe/Paris:20260417T183000
DTEND;TZID=Europe/Paris:20260417T210000
DTSTAMP:20260424T114013
CREATED:20260408T125655Z
LAST-MODIFIED:20260408T134126Z
UID:10005882-1776450600-1776459600@icecream-annecy.fr
SUMMARY:🚵‍♂️ Afterwork VTT avec Mondovélo Epagny 🚵‍♂️
DESCRIPTION:Envie de vous évader après le travail et de partager un bon moment sur les sentiers ? Rejoignez-nous pour nos afterworks VTT ! \n📅 Un vendredi sur deux\, venez rouler avec nous pour une sortie conviviale d’environ 25 à 30 km avec 500 à 600 m de D+. \nL’occasion parfaite de profiter des sentiers\, découvrir de nouveaux parcours et rouler dans une ambiance détendue. \nAu programme : plaisir\, partage et découverte de nouveaux trails 🚵 \n⚡ VTTAE bienvenus\n⚠️ Nos afterworks sont sur un format “sortie entre amis” : pas d’encadrement officiel ni assistance. Mais comme toujours\, la solidarité entre riders est là en cas de pépin ! \n✅ Casque obligatoire\n💡 Éclairage fortement conseillé\n🌦️ Sortie maintenue sous réserve d’une météo favorable\n👉 Inscrivez-vous et venez rouler avec nous ! 🌲🚵‍♂️ \nInscriptions ici : lien pour s’inscrire
URL:https://icecream-annecy.fr/event/%f0%9f%9a%b5%e2%99%82%ef%b8%8f-afterwork-vtt-avec-mondovelo-epagny/
LOCATION:Mondovélo Epagny
CATEGORIES:Outdoor,Sport
END:VEVENT
END:VCALENDAR